BEGIN:VCALENDAR
VERSION:2.0
PRODID:-//ChamberMaster//Event Calendar 2.0//EN
METHOD:PUBLISH
X-PUBLISHED-TTL:P3D
REFRESH-INTERVAL:P3D
CALSCALE:GREGORIAN
BEGIN:VEVENT
DTSTART:20180223T130000Z
DTEND:20180223T203000Z
X-MICROSOFT-CDO-ALLDAYEVENT:FALSE
SUMMARY:Work as Worship
DESCRIPTION:1 Day Local Church Retreat...Join other believers who want their faith to impact their work.  Live simulcast
X-ALT-DESC;FMTTYPE=text/html:1 Day Local Church Retreat...Join other believers who want their faith to impact their work.&nbsp\; Live simulcast
LOCATION:Southside Christian Church 1950 Danville Road Harrodsburg KY
UID:e.1251.16319
SEQUENCE:3
DTSTAMP:20260423T124021Z
URL:https://www.mercerchamber.com/events/details/work-as-worship-16319
END:VEVENT

END:VCALENDAR
