BEGIN:VCALENDAR
VERSION:2.0
PRODID:-//ChamberMaster//Event Calendar 2.0//EN
METHOD:PUBLISH
X-PUBLISHED-TTL:P3D
REFRESH-INTERVAL:P3D
CALSCALE:GREGORIAN
BEGIN:VEVENT
DTSTART:20201125T223000Z
DTEND:20201126T010000Z
X-MICROSOFT-CDO-ALLDAYEVENT:FALSE
SUMMARY:Wilderness Trail Pairing
DESCRIPTION:Wilderness Trail Pairing.  Music by Andrew Palmer\n\n\n\nLIMITED TICKETS AVAILABLE!!
X-ALT-DESC;FMTTYPE=text/html:Wilderness Trail Pairing.&nbsp\; Music by Andrew Palmer<br />\n<br />\nLIMITED TICKETS AVAILABLE!!
LOCATION:Rock Haven Cigar\, Tap and Pourhouse 419 East Office Street Harrodsburg KY 40330
UID:e.1251.31063
SEQUENCE:3
DTSTAMP:20260424T223030Z
URL:https://www.mercerchamber.com/events/details/wilderness-trail-pairing-31063
END:VEVENT

END:VCALENDAR
