BEGIN:VCALENDAR
VERSION:2.0
PRODID:-//ChamberMaster//Event Calendar 2.0//EN
METHOD:PUBLISH
X-PUBLISHED-TTL:P3D
REFRESH-INTERVAL:P3D
CALSCALE:GREGORIAN
BEGIN:VEVENT
DTSTART:20191018T123000Z
DTEND:20191018T143000Z
X-MICROSOFT-CDO-ALLDAYEVENT:FALSE
SUMMARY:Virtual Career Fair
DESCRIPTION:Applicants can communicate virtually with Human Resources representatives and Hiring Managers and receive instant responses.
X-ALT-DESC;FMTTYPE=text/html:Applicants can communicate virtually with Human Resources representatives and Hiring Managers and receive instant responses.
LOCATION:Call\, Text\, Email\, Facebook Message
UID:e.1251.24156
SEQUENCE:3
DTSTAMP:20260421T184817Z
URL:https://www.mercerchamber.com/events/details/virtual-career-fair-10-18-2019-24156
END:VEVENT

END:VCALENDAR
