BEGIN:VCALENDAR
VERSION:2.0
PRODID:-//ChamberMaster//Event Calendar 2.0//EN
METHOD:PUBLISH
X-PUBLISHED-TTL:P3D
REFRESH-INTERVAL:P3D
CALSCALE:GREGORIAN
BEGIN:VEVENT
DTSTART:20171201T150000Z
DTEND:20171202T180000Z
X-MICROSOFT-CDO-ALLDAYEVENT:FALSE
SUMMARY:Victorian & Orchids
DESCRIPTION:Holiday Specials Friday & Saturday
X-ALT-DESC;FMTTYPE=text/html:Holiday Specials Friday &amp\; Saturday
LOCATION:Victorian & Orchids 116 South Main Street Harrodsburg KY
UID:e.1251.16204
SEQUENCE:3
DTSTAMP:20260425T035438Z
URL:https://www.mercerchamber.com/events/details/victorian-orchids-16204
END:VEVENT

END:VCALENDAR
