BEGIN:VCALENDAR
VERSION:2.0
PRODID:-//ChamberMaster//Event Calendar 2.0//EN
METHOD:PUBLISH
X-PUBLISHED-TTL:P3D
REFRESH-INTERVAL:P3D
CALSCALE:GREGORIAN
BEGIN:VEVENT
DTSTART:20171030T130000Z
DTEND:20171112T000000Z
X-MICROSOFT-CDO-ALLDAYEVENT:FALSE
SUMMARY:Veterans Day 2017
DESCRIPTION:Honoring All Who Served...Special Observance entitled "Thank You for Your Service: Honoring Mercer County's Veterans."  A showcase of military memorabilia.
X-ALT-DESC;FMTTYPE=text/html:Honoring All Who Served...Special Observance entitled <strong>&quot\;Thank You for Your Service: Honoring Mercer County&#39\;s Veterans.&quot\;&nbsp\; </strong>A showcase of military memorabilia.
LOCATION:Mercer County Public Library\, West Lexington Street\, Harrodsburg
UID:e.1251.12642
SEQUENCE:3
DTSTAMP:20260424T181710Z
URL:https://www.mercerchamber.com/events/details/veterans-day-2017-12642
END:VEVENT

END:VCALENDAR
