BEGIN:VCALENDAR
VERSION:2.0
PRODID:-//ChamberMaster//Event Calendar 2.0//EN
METHOD:PUBLISH
X-PUBLISHED-TTL:P3D
REFRESH-INTERVAL:P3D
CALSCALE:GREGORIAN
BEGIN:VEVENT
DTSTART:20130518T230000Z
DTEND:20130518T230000Z
X-MICROSOFT-CDO-ALLDAYEVENT:FALSE
SUMMARY:Variety Show
DESCRIPTION:Variety Show
X-ALT-DESC;FMTTYPE=text/html:Variety Show 
LOCATION:Ragged Edge Theatre on Main Street
UID:e.1251.1994
SEQUENCE:3
DTSTAMP:20260421T085918Z
URL:https://www.mercerchamber.com/events/details/variety-show-05-18-2013-1994
END:VEVENT

END:VCALENDAR
