BEGIN:VCALENDAR
VERSION:2.0
PRODID:-//ChamberMaster//Event Calendar 2.0//EN
METHOD:PUBLISH
X-PUBLISHED-TTL:P3D
REFRESH-INTERVAL:P3D
CALSCALE:GREGORIAN
BEGIN:VEVENT
DTSTART:20191206T233000Z
DTEND:20191207T003000Z
X-MICROSOFT-CDO-ALLDAYEVENT:FALSE
SUMMARY:Twilight Christmas Parade
DESCRIPTION:Twilight Christmas Parade is December 6th at 6:30 pm - theme is Candyland
X-ALT-DESC;FMTTYPE=text/html:<span style="caret-color: rgb(0\, 0\, 0)\; color: rgb(0\, 0\, 0)\; font-family: -webkit-standard\; font-size: medium\; text-size-adjust: auto\;">Twilight Christmas Parade is December 6th at 6:30 pm - theme is Candyland</span>
LOCATION:Downtown Harrodsburg
UID:e.1251.27220
SEQUENCE:3
DTSTAMP:20260423T175719Z
URL:https://www.mercerchamber.com/events/details/twilight-christmas-parade-27220
END:VEVENT

END:VCALENDAR
