BEGIN:VCALENDAR
VERSION:2.0
PRODID:-//ChamberMaster//Event Calendar 2.0//EN
METHOD:PUBLISH
X-PUBLISHED-TTL:P3D
REFRESH-INTERVAL:P3D
CALSCALE:GREGORIAN
BEGIN:VEVENT
DTSTART:20191029T210000Z
DTEND:20191029T230000Z
X-MICROSOFT-CDO-ALLDAYEVENT:FALSE
SUMMARY:Trunk or Treat at Bob Allen
DESCRIPTION:Bob Allen Event
X-ALT-DESC;FMTTYPE=text/html:<span style="white-space: pre-wrap\;">Bob Allen Event</span>
LOCATION:711 Maple Ave. Danville KY 40423
UID:e.1251.27222
SEQUENCE:3
DTSTAMP:20260421T202901Z
URL:https://www.mercerchamber.com/events/details/trunk-or-treat-at-bob-allen-27222
END:VEVENT

END:VCALENDAR
