BEGIN:VCALENDAR
VERSION:2.0
PRODID:-//ChamberMaster//Event Calendar 2.0//EN
METHOD:PUBLISH
X-PUBLISHED-TTL:P3D
REFRESH-INTERVAL:P3D
CALSCALE:GREGORIAN
BEGIN:VEVENT
DTSTART:20191031T210000Z
DTEND:20191031T230000Z
X-MICROSOFT-CDO-ALLDAYEVENT:FALSE
SUMMARY:Trunk or Treat
DESCRIPTION:Come for Halloween Trick or Treat in a safe\, church based setting.
X-ALT-DESC;FMTTYPE=text/html:<span style="caret-color: rgb(29\, 33\, 41)\; color: rgb(29\, 33\, 41)\; font-family: system-ui\, -apple-system\, BlinkMacSystemFont\, &quot\;.SFNSText-Regular&quot\;\, sans-serif\; font-size: 14px\; white-space: pre-wrap\; text-size-adjust: auto\;">Come for Halloween Trick or Treat in a safe\, church based setting.</span>
LOCATION:pin New Providence Presbyterian Church 3301 Louisville Road\, Mcafee\, Kentucky
UID:e.1251.27208
SEQUENCE:3
DTSTAMP:20260421T203231Z
URL:https://www.mercerchamber.com/events/details/trunk-or-treat-27208
END:VEVENT

END:VCALENDAR
