BEGIN:VCALENDAR
VERSION:2.0
PRODID:-//ChamberMaster//Event Calendar 2.0//EN
METHOD:PUBLISH
X-PUBLISHED-TTL:P3D
REFRESH-INTERVAL:P3D
CALSCALE:GREGORIAN
BEGIN:VEVENT
DTSTART;VALUE=DATE:20191011
DTEND;VALUE=DATE:20191012
TRANSP:TRANSPARENT
X-MICROSOFT-CDO-ALLDAYEVENT:TRUE
SUMMARY:Trivia Nights at the Ky Fudge Company
DESCRIPTION:Free Live Trivia. Loads of laughter\, Prizes and Surprises. \n\nIndividuals or teams - all welcome!\n\nSponsored by 2019 \n\nFort Harrod Jazz Festival
X-ALT-DESC;FMTTYPE=text/html:<span style="caret-color: rgb(28\, 30\, 33)\; color: rgb(28\, 30\, 33)\; font-family: system-ui\, -apple-system\, BlinkMacSystemFont\, &quot\;.SFNSText-Regular&quot\;\, sans-serif\; font-size: 14px\; text-size-adjust: auto\;">Free Live Trivia. Loads of laughter\, Prizes and Surprises. </span><br style="caret-color: rgb(28\, 30\, 33)\; color: rgb(28\, 30\, 33)\; font-family: system-ui\, -apple-system\, BlinkMacSystemFont\, &quot\;.SFNSText-Regular&quot\;\, sans-serif\; font-size: 14px\; text-size-adjust: auto\;" />\n<span style="caret-color: rgb(28\, 30\, 33)\; color: rgb(28\, 30\, 33)\; font-family: system-ui\, -apple-system\, BlinkMacSystemFont\, &quot\;.SFNSText-Regular&quot\;\, sans-serif\; font-size: 14px\; text-size-adjust: auto\;">Individuals or teams - all welcome!</span><br style="caret-color: rgb(28\, 30\, 33)\; color: rgb(28\, 30\, 33)\; font-family: system-ui\, -apple-system\, BlinkMacSystemFont\, &quot\;.SFNSText-Regular&quot\;\, sans-serif\; font-size: 14px\; text-size-adjust: auto\;" />\n<span style="caret-color: rgb(28\, 30\, 33)\; color: rgb(28\, 30\, 33)\; font-family: system-ui\, -apple-system\, BlinkMacSystemFont\, &quot\;.SFNSText-Regular&quot\;\, sans-serif\; font-size: 14px\; text-size-adjust: auto\;">Sponsored by 2019 </span><br style="caret-color: rgb(28\, 30\, 33)\; color: rgb(28\, 30\, 33)\; font-family: system-ui\, -apple-system\, BlinkMacSystemFont\, &quot\;.SFNSText-Regular&quot\;\, sans-serif\; font-size: 14px\; text-size-adjust: auto\;" />\n<span style="caret-color: rgb(28\, 30\, 33)\; color: rgb(28\, 30\, 33)\; font-family: system-ui\, -apple-system\, BlinkMacSystemFont\, &quot\;.SFNSText-Regular&quot\;\, sans-serif\; font-size: 14px\; text-size-adjust: auto\;">Fort Harrod Jazz Festival</span>
LOCATION:225 S Main St Harrodsburg\, Kentucky
UID:e.1251.23425
SEQUENCE:3
DTSTAMP:20260421T204106Z
URL:https://www.mercerchamber.com/events/details/trivia-nights-at-the-ky-fudge-company-10-11-2019-23425
END:VEVENT

END:VCALENDAR
