BEGIN:VCALENDAR
VERSION:2.0
PRODID:-//ChamberMaster//Event Calendar 2.0//EN
METHOD:PUBLISH
X-PUBLISHED-TTL:P3D
REFRESH-INTERVAL:P3D
CALSCALE:GREGORIAN
BEGIN:VEVENT
DTSTART:20171127T130000Z
DTEND:20171208T020000Z
X-MICROSOFT-CDO-ALLDAYEVENT:FALSE
SUMMARY:Toy Drive
DESCRIPTION:ServoPro is teamng up with the Danville and Harrodsburg Fire Departments.  Bring a new\, unopened toy to one of our locations before December 8\, 2017
X-ALT-DESC;FMTTYPE=text/html:ServoPro is teamng up with the Danville and Harrodsburg Fire Departments.&nbsp\; Bring a new\, unopened toy to one of our locations before December 8\, 2017
LOCATION:Danville Allstate Insurance\, 3940 South Danville Bypass\, Suite C State Farm\, 540 Commerce Drive\,Harrodsbrg
UID:e.1251.16201
SEQUENCE:3
DTSTAMP:20260423T144841Z
URL:https://www.mercerchamber.com/events/details/toy-drive-16201
END:VEVENT

END:VCALENDAR
