BEGIN:VCALENDAR
VERSION:2.0
PRODID:-//ChamberMaster//Event Calendar 2.0//EN
METHOD:PUBLISH
X-PUBLISHED-TTL:P3D
REFRESH-INTERVAL:P3D
CALSCALE:GREGORIAN
BEGIN:VEVENT
DTSTART:20260424T230000Z
DTEND:20260427T010000Z
X-MICROSOFT-CDO-ALLDAYEVENT:FALSE
SUMMARY:The Wizard of Oz
DESCRIPTION:Showings at 2 some days and 7 for others.
X-ALT-DESC;FMTTYPE=text/html:Showings at 2 some days and 7 for others.
LOCATION:
UID:e.1251.48954
SEQUENCE:3
DTSTAMP:20260423T081457Z
URL:https://www.mercerchamber.com/events/details/the-wizard-of-oz-48954
END:VEVENT

END:VCALENDAR
