BEGIN:VCALENDAR
VERSION:2.0
PRODID:-//ChamberMaster//Event Calendar 2.0//EN
METHOD:PUBLISH
X-PUBLISHED-TTL:P3D
REFRESH-INTERVAL:P3D
CALSCALE:GREGORIAN
BEGIN:VEVENT
DTSTART:20110811T220000Z
DTEND:20110811T230000Z
X-MICROSOFT-CDO-ALLDAYEVENT:FALSE
SUMMARY:Technology Workshop - Tips For Online Promotion
DESCRIPTION:
X-ALT-DESC;FMTTYPE=text/html:
LOCATION:Mercer County Library
UID:e.1251.3
SEQUENCE:3
DTSTAMP:20260421T061716Z
URL:https://www.mercerchamber.com/events/details/technology-workshop-tips-for-online-promotion-08-11-2011-3
END:VEVENT

END:VCALENDAR
