BEGIN:VCALENDAR
VERSION:2.0
PRODID:-//ChamberMaster//Event Calendar 2.0//EN
METHOD:PUBLISH
X-PUBLISHED-TTL:P3D
REFRESH-INTERVAL:P3D
CALSCALE:GREGORIAN
BEGIN:VEVENT
DTSTART:20230318T220000Z
DTEND:20230319T230000Z
X-MICROSOFT-CDO-ALLDAYEVENT:FALSE
SUMMARY:Sunset of the Shakers @ Shaker Village
DESCRIPTION:Join us for this springtime walk under a beautiful Kentucky sunset. Along the way\, explore how social\, cultural and political forces contributed to the decline of the once thriving village of Pleasant Hill\, and discover the unique personalities of the few Shakers that remained until the end.\n\nAll ages are welcome. Meet outside the 1839 Trustees' Office fifteen minutes before the program. Call 859.734.5411 or email info@shakervillageky.org for more information!\n\nAll tickets are non-refundable and non-transferable. Shaker Village is a 501(c)3 nonprofit organization.\n\nPricing:\n\n$15 - Non-Passholder\n\n$10 - Annual Passholder
X-ALT-DESC;FMTTYPE=text/html:<p style="box-sizing: border-box\; line-height: 1.55556\; margin: 0px 0px 30px\; color: rgb(0\, 0\, 0)\; font-family: Georgia\, &quot\;Times New Roman&quot\;\, Times\, serif\; font-size: 18px\;">Join us for this springtime walk under a beautiful Kentucky sunset. Along the way\, explore how social\, cultural and political forces contributed to the decline of the once thriving village of Pleasant Hill\, and discover the unique personalities of the few Shakers that remained until the end.</p>\n\n<p style="box-sizing: border-box\; line-height: 1.55556\; margin: 0px 0px 30px\; color: rgb(0\, 0\, 0)\; font-family: Georgia\, &quot\;Times New Roman&quot\;\, Times\, serif\; font-size: 18px\;"><em style="box-sizing: border-box\; margin-top: 0px\; margin-left: 0px\;">All ages are welcome. Meet outside the 1839 Trustees&#39\; Office fifteen minutes before the program.</em>&nbsp\;<em style="box-sizing: border-box\; margin-bottom: 0px\; margin-right: 0px\;">Call 859.734.5411 or email&nbsp\;<a href="mailto:info@shakervillageky.org" style="box-sizing: border-box\; background-color: transparent\; color: rgb(18\, 87\, 18)\; margin: 0px\;">info@shakervillageky.org</a>&nbsp\;for more information!</em></p>\n\n<p style="box-sizing: border-box\; line-height: 1.55556\; margin: 0px 0px 30px\; color: rgb(0\, 0\, 0)\; font-family: Georgia\, &quot\;Times New Roman&quot\;\, Times\, serif\; font-size: 18px\;"><em style="box-sizing: border-box\; margin: 0px\;">All tickets are non-refundable and non-transferable. Shaker Village is a 501(c)3 nonprofit organization.</em></p>\n\n<p style="box-sizing: border-box\; line-height: 1.55556\; margin: 0px\; color: rgb(0\, 0\, 0)\; font-family: Georgia\, &quot\;Times New Roman&quot\;\, Times\, serif\; font-size: 18px\; text-align: center\;"><strong style="box-sizing: border-box\; margin-top: 0px\; margin-left: 0px\;">Pricing:</strong><br style="box-sizing: border-box\; margin: 0px\;" />\n<strong style="box-sizing: border-box\;">$15&nbsp\;</strong>- Non-Passholder<br style="box-sizing: border-box\;" />\n<strong style="box-sizing: border-box\; margin-bottom: 0px\; margin-right: 0px\;">$10 -&nbsp\;</strong>Annual Passholder</p>\n
LOCATION:
UID:e.1251.39699
SEQUENCE:3
DTSTAMP:20260425T212159Z
URL:https://www.mercerchamber.com/events/details/sunset-of-the-shakers-shaker-village-03-18-2023-39699
END:VEVENT

END:VCALENDAR
