BEGIN:VCALENDAR
VERSION:2.0
PRODID:-//ChamberMaster//Event Calendar 2.0//EN
METHOD:PUBLISH
X-PUBLISHED-TTL:P3D
REFRESH-INTERVAL:P3D
CALSCALE:GREGORIAN
BEGIN:VEVENT
DTSTART:20260422T180000Z
DTEND:20260422T200000Z
X-MICROSOFT-CDO-ALLDAYEVENT:FALSE
SUMMARY:Spring Event at Ashwood Place
DESCRIPTION:April Showers Bring May Flowers\n			\n		\n		\n			\n			Please join Ashwood Place Wednesday April 22nd from 2-4pm for our event. We will have music\, appetizers\, drinks and dessert. We will also be giving away seeds for your planting projects. Please RSVP at 502-223-5555.\n\n			 \n\n			Wednesday\, April 22\, 2026 from 2:00 PM to 4:00 PM EDT\n\n			\n			Ashwood Place Senior Living\n			102 Leonardwood Drive\, Frankfort\, KY 40601
X-ALT-DESC;FMTTYPE=text/html:<table bgcolor="#fafafb" style="caret-color: rgb(0\, 0\, 0)\; font-family: Aptos\; min-width: 300px\; max-width: 600px\; padding: 1rem\;">\n	<tbody>\n		<tr>\n			<td align="center" class="event-rsvp__section" style="padding: 8px 0px\;">\n			<h1 style="font-size: 1.5rem\; color: rgb(23\, 23\, 37)\; margin: 0px 0px 0.5rem\;">April Showers Bring May Flowers</h1>\n			</td>\n		</tr>\n		<tr>\n			<td align="center" class="event-rsvp__section" style="padding: 8px 0px\;">\n			<div>Please join Ashwood Place Wednesday April 22nd from 2-4pm for our event. We will have music\, appetizers\, drinks and dessert. We will also be giving away seeds for your planting projects. Please RSVP at 502-223-5555.<br />\n			&nbsp\;</div>\n\n			<div>Wednesday\, April 22\, 2026 from 2:00 PM to 4:00 PM EDT</div>\n\n			<div>\n			<div>Ashwood Place Senior Living</div>\n			<a contenteditable="false" href="https://email.sincerisl.welcomehomesoftware.com/c/eJwkzjFuhDAQQNHTDF3QeNY2pnAREtEkF0hp7PGCghlkyKLcPtKm_PrNS1512eXcsFddZ1XfKUPN7G3oozFZkzPsUnRJoU2YwkQ99draZvGEZFErTYjGUKuIzRRzj-7mpsla0HgsW-S6HGt78Rql8CyFD8nnFSq3UUqz-vk89wNur0Aj0HhdV3sXua_PDTSWsB9A476GyECjQgIaPlm2UNMlkoCG97o8GOgNaBhr2L6z1PM_P76ABo0WVVP9smUBjYVr5BrnUCauT8Ppo5Tysy3n74t2SLZ5ePoLAAD__0IaVeg" style="text-decoration: none\;" title="https://email.sincerisl.welcomehomesoftware.com/c/eJwkzjFuhDAQQNHTDF3QeNY2pnAREtEkF0hp7PGCghlkyKLcPtKm_PrNS1512eXcsFddZ1XfKUPN7G3oozFZkzPsUnRJoU2YwkQ99draZvGEZFErTYjGUKuIzRRzj-7mpsla0HgsW-S6HGt78Rql8CyFD8nnFSq3UUqz-vk89wNur0Aj0HhdV3sXua_PDTSWsB9A476GyECjQgIaPlm2UNMlkoCG97o8GOgNaBhr2L6z1PM_P76ABo0WVVP9smUBjYVr5BrnUCauT8Ppo5Tysy3n74t2SLZ5ePoLAAD__0IaVeg">102 Leonardwood Drive\, Frankfort\, KY 40601</a></div>\n			</td>\n		</tr>\n	</tbody>\n</table>\n
LOCATION:
UID:e.1251.48948
SEQUENCE:3
DTSTAMP:20260422T084409Z
URL:https://www.mercerchamber.com/events/details/spring-event-at-ashwood-place-48948
END:VEVENT

END:VCALENDAR
