BEGIN:VCALENDAR
VERSION:2.0
PRODID:-//ChamberMaster//Event Calendar 2.0//EN
METHOD:PUBLISH
X-PUBLISHED-TTL:P3D
REFRESH-INTERVAL:P3D
CALSCALE:GREGORIAN
BEGIN:VEVENT
DTSTART;VALUE=DATE:20191026
DTEND;VALUE=DATE:20191027
TRANSP:TRANSPARENT
X-MICROSOFT-CDO-ALLDAYEVENT:TRUE
SUMMARY:Spooktacular Halloween Parade
DESCRIPTION:Spooktacular Halloween Parade
X-ALT-DESC;FMTTYPE=text/html:<span style="caret-color: rgb(0\, 0\, 0)\; color: rgb(0\, 0\, 0)\; font-family: -webkit-standard\; font-size: medium\; text-size-adjust: auto\;">Spooktacular Halloween Parade </span>
LOCATION:
UID:e.1251.27219
SEQUENCE:3
DTSTAMP:20260421T201128Z
URL:https://www.mercerchamber.com/events/details/spooktacular-halloween-parade-27219
END:VEVENT

END:VCALENDAR
