BEGIN:VCALENDAR
VERSION:2.0
PRODID:-//ChamberMaster//Event Calendar 2.0//EN
METHOD:PUBLISH
X-PUBLISHED-TTL:P3D
REFRESH-INTERVAL:P3D
CALSCALE:GREGORIAN
BEGIN:VEVENT
DTSTART:20180113T230000Z
DTEND:20180114T010000Z
X-MICROSOFT-CDO-ALLDAYEVENT:FALSE
SUMMARY:Sphagetti Dinner Fundraiser
DESCRIPTION:Youth Investment Sphagetti Dinner Fundraiser
X-ALT-DESC;FMTTYPE=text/html:Youth Investment Sphagetti Dinner&nbsp\;Fundraiser
LOCATION:Mercer County Extension Service Office 1007 Lexington Road
UID:e.1251.16316
SEQUENCE:3
DTSTAMP:20260424T055542Z
URL:https://www.mercerchamber.com/events/details/sphagetti-dinner-fundraiser-16316
END:VEVENT

END:VCALENDAR
