BEGIN:VCALENDAR
VERSION:2.0
PRODID:-//ChamberMaster//Event Calendar 2.0//EN
METHOD:PUBLISH
X-PUBLISHED-TTL:P3D
REFRESH-INTERVAL:P3D
CALSCALE:GREGORIAN
BEGIN:VEVENT
DTSTART:20210410T210000Z
DTEND:20210411T010000Z
X-MICROSOFT-CDO-ALLDAYEVENT:FALSE
SUMMARY:Rockhaven Events/Beez Street Eats!
DESCRIPTION:This week at Rock Haven \n\nFriday SING-O and Chuck Wagon Food Truck\n\nSaturday Music by Jimmy Richie and Beez Street Eats. Don't miss it!
X-ALT-DESC;FMTTYPE=text/html:<span style="font-size:16px\;"><span style="caret-color: rgb(0\, 0\, 0)\; color: rgb(0\, 0\, 0)\; font-family: system-ui\, -apple-system\, BlinkMacSystemFont\, &quot\;.SFNSText-Regular&quot\;\, sans-serif\; font-weight: bold\; text-align: center\; text-size-adjust: auto\; background-color: rgb(255\, 99\, 35)\;">This week at Rock Haven </span><br style="caret-color: rgb(0\, 0\, 0)\; color: rgb(0\, 0\, 0)\; font-family: system-ui\, -apple-system\, BlinkMacSystemFont\, &quot\;.SFNSText-Regular&quot\;\, sans-serif\; font-size: 30px\; font-weight: bold\; text-align: center\; text-size-adjust: auto\;" />\n<span style="caret-color: rgb(0\, 0\, 0)\; color: rgb(0\, 0\, 0)\; font-family: system-ui\, -apple-system\, BlinkMacSystemFont\, &quot\;.SFNSText-Regular&quot\;\, sans-serif\; font-weight: bold\; text-align: center\; text-size-adjust: auto\; background-color: rgb(255\, 99\, 35)\;">Friday SING-O and Chuck Wagon Food Truck</span><br style="caret-color: rgb(0\, 0\, 0)\; color: rgb(0\, 0\, 0)\; font-family: system-ui\, -apple-system\, BlinkMacSystemFont\, &quot\;.SFNSText-Regular&quot\;\, sans-serif\; font-size: 30px\; font-weight: bold\; text-align: center\; text-size-adjust: auto\;" />\n<span style="caret-color: rgb(0\, 0\, 0)\; color: rgb(0\, 0\, 0)\; font-family: system-ui\, -apple-system\, BlinkMacSystemFont\, &quot\;.SFNSText-Regular&quot\;\, sans-serif\; font-weight: bold\; text-align: center\; text-size-adjust: auto\; background-color: rgb(255\, 99\, 35)\;">Saturday Music by Jimmy Richie and Beez Street Eats. Don&#39\;t miss it!</span></span>
LOCATION:419 East Office Street\, Hburg
UID:e.1251.31990
SEQUENCE:3
DTSTAMP:20260422T193733Z
URL:https://www.mercerchamber.com/events/details/rockhaven-events-beez-street-eats-31990
END:VEVENT

END:VCALENDAR
