BEGIN:VCALENDAR
VERSION:2.0
PRODID:-//ChamberMaster//Event Calendar 2.0//EN
METHOD:PUBLISH
X-PUBLISHED-TTL:P3D
REFRESH-INTERVAL:P3D
CALSCALE:GREGORIAN
BEGIN:VEVENT
DTSTART:20191017T213000Z
DTEND:20191017T230000Z
X-MICROSOFT-CDO-ALLDAYEVENT:FALSE
SUMMARY:Regional Chambers Business After Hours at Lover's Leap
DESCRIPTION:Regional Chambers Business After Hours at Lover's Leap with the Anderson\, and Frankfort Chambers and our Mercer Chamber is invited!.    Join us for a night of business networking with the Anderson Co. & Frankfort Area Chamber while enjoying the beautiful vineyard of Lovers Leap. \nRibbon Cutting Ceremony at 5:45PM to celebrate Lovers Leap exciting new pavilion!\n\nThere will be Music Entertainment
X-ALT-DESC;FMTTYPE=text/html:Regional Chambers Business After Hours at Lover&#39\;s Leap with the Anderson\, and Frankfort Chambers and our Mercer Chamber is invited!. &nbsp\; &nbsp\;<span style="color: rgb(12\, 10\, 28)\; font-family: &quot\;Lobster Two&quot\;\, cursive\; font-size: 14px\; caret-color: rgb(255\, 255\, 255)\; text-align: center\;">Join us for&nbsp\;a night of business networking with the Anderson Co. &amp\; Frankfort Area Chamber while enjoying the beautiful vineyard of Lovers Leap.&nbsp\;</span>\n<div style="caret-color: rgb(255\, 255\, 255)\; color: rgb(255\, 255\, 255)\; font-family: Georgia\, &quot\;Times New Roman&quot\;\, Times\, serif\; font-size: 24px\; font-style: italic\; text-align: center\;"><span style="font-size:14px\;"><span style="color: rgb(12\, 10\, 28)\; font-family: &quot\;Lobster Two&quot\;\, cursive\; font-style: normal\;">Ribbon Cutting Ceremony at 5:45PM to celebrate Lovers Leap exciting new pavilion!</span></span></div>\n\n<div style="caret-color: rgb(255\, 255\, 255)\; color: rgb(255\, 255\, 255)\; font-family: Georgia\, &quot\;Times New Roman&quot\;\, Times\, serif\; font-size: 24px\; font-style: italic\; text-align: center\;"><span style="font-size:14px\;"><span style="color: rgb(0\, 0\, 0)\; font-family: &quot\;Lobster Two&quot\;\, cursive\;">There will be Music Entertainment</span></span></div>\n
LOCATION:Lovers Leap Vineyards and Winery 1180 Lanes Mill Road Lawrenceburg\, KY Directions Take US 127 North Toward Frankfort. Turn right onto Frankfort Rd. Go about 1.1 miles and turn left onto Ninevah Road. Go another 2.8 miles and turn Left onto
UID:e.1251.24149
SEQUENCE:3
DTSTAMP:20260421T185002Z
URL:https://www.mercerchamber.com/events/details/regional-chambers-business-after-hours-at-lover-s-leap-24149
END:VEVENT

END:VCALENDAR
