BEGIN:VCALENDAR
VERSION:2.0
PRODID:-//ChamberMaster//Event Calendar 2.0//EN
METHOD:PUBLISH
X-PUBLISHED-TTL:P3D
REFRESH-INTERVAL:P3D
CALSCALE:GREGORIAN
BEGIN:VEVENT
DTSTART;VALUE=DATE:20110810
DTEND;VALUE=DATE:20110811
TRANSP:TRANSPARENT
X-MICROSOFT-CDO-ALLDAYEVENT:TRUE
SUMMARY:Rand Paul
DESCRIPTION:Rand Paul     To reserve a seat\, call 859-236-2361    Mercer Chamber  members get discount!
X-ALT-DESC;FMTTYPE=text/html:Rand Paul&nbsp\;&nbsp\;&nbsp\;&nbsp\; To reserve a seat\, call 859-236-2361&nbsp\;&nbsp\;&nbsp\; Mercer Chamber&nbsp\; members get discount!
LOCATION:Danville County Club
UID:e.1251.16
SEQUENCE:3
DTSTAMP:20260421T104414Z
URL:https://www.mercerchamber.com/events/details/rand-paul-08-10-2011-16
END:VEVENT

END:VCALENDAR
