BEGIN:VCALENDAR
VERSION:2.0
PRODID:-//ChamberMaster//Event Calendar 2.0//EN
METHOD:PUBLISH
X-PUBLISHED-TTL:P3D
REFRESH-INTERVAL:P3D
CALSCALE:GREGORIAN
BEGIN:VEVENT
DTSTART:20260422T160000Z
DTEND:20260422T170000Z
X-MICROSOFT-CDO-ALLDAYEVENT:FALSE
SUMMARY:"Plan Smart: Understanding Business Planning"
DESCRIPTION:Are you looking to start\, grow\, scale\, or finance a business in Kentucky? In order to move forward with any of these pivotal steps in business\, having a solid business plan in place is a key step. In this workshop with Kentucky SBDC Trainer and Business Coach Michelle Smock\, you will discuss the differenty types\, purposes\, and basic fundamentals of a business plan. Training is provided at no charge and will be held on Zoom.
X-ALT-DESC;FMTTYPE=text/html:<span style="caret-color: rgb(32\, 32\, 32)\; color: rgb(32\, 32\, 32)\; font-family: Helvetica\; font-size: 16px\;">Are you looking to start\, grow\, scale\, or finance a business in Kentucky? In order to move forward with any of these pivotal steps in business\, having a solid business plan in place is a key step. In this workshop with Kentucky SBDC Trainer and Business Coach Michelle Smock\, you will discuss the differenty types\, purposes\, and basic fundamentals of a business plan. Training is provided at no charge and will be held on Zoom.&nbsp\;</span>
LOCATION:
UID:e.1251.48785
SEQUENCE:3
DTSTAMP:20260421T083450Z
URL:https://www.mercerchamber.com/events/details/plan-smart-understanding-business-planning-48785
END:VEVENT

END:VCALENDAR
