BEGIN:VCALENDAR
VERSION:2.0
PRODID:-//ChamberMaster//Event Calendar 2.0//EN
METHOD:PUBLISH
X-PUBLISHED-TTL:P3D
REFRESH-INTERVAL:P3D
CALSCALE:GREGORIAN
BEGIN:VEVENT
DTSTART;VALUE=DATE:20180817
DTEND;VALUE=DATE:20180820
TRANSP:TRANSPARENT
X-MICROSOFT-CDO-ALLDAYEVENT:TRUE
SUMMARY:Pioneer Days Festival 2018
DESCRIPTION:Free family friendly community festival with games\, vendors\, rides\, races\, contests and music and food! Put on by the Mercer Chamber of Commerce.\n\nTo vend\, please contact the chamber for a form at info@mercerchamber.com or this link http://www.mercerchamber.com/pioneer-days/
X-ALT-DESC;FMTTYPE=text/html:<span style="background-image:initial\;background-position:initial\;background-size:initial\;background-repeat:initial\;background-attachment:initial\;background-origin:initial\;background-clip:initial\;"><span style="font-family:arial\,sans-serif\;"><span style="font-size:10pt\;">Free family friendly community festival with games\, vendors\, rides\, races\, contests and music and food! Put on by the Mercer Chamber of Commerce.<br />\nTo vend\, please contact the chamber for a form at info@mercerchamber.com or this link&nbsp\;</span></span></span>http://www.mercerchamber.com/pioneer-days/
LOCATION:Old Fort Harrod State Park in Harrodsburg
UID:e.1251.15865
SEQUENCE:3
DTSTAMP:20260423T084643Z
URL:https://www.mercerchamber.com/events/details/pioneer-days-festival-2018-15865
END:VEVENT

END:VCALENDAR
