BEGIN:VCALENDAR
VERSION:2.0
PRODID:-//ChamberMaster//Event Calendar 2.0//EN
METHOD:PUBLISH
X-PUBLISHED-TTL:P3D
REFRESH-INTERVAL:P3D
CALSCALE:GREGORIAN
BEGIN:VEVENT
DTSTART:20111108T123000Z
DTEND:20111108T131500Z
X-MICROSOFT-CDO-ALLDAYEVENT:FALSE
SUMMARY:PERK UP!
DESCRIPTION:
X-ALT-DESC;FMTTYPE=text/html:
LOCATION:At the KY Fudge Company on Main Street
UID:e.1251.297
SEQUENCE:3
DTSTAMP:20260421T002812Z
URL:https://www.mercerchamber.com/events/details/perk-up-11-08-2011-297
END:VEVENT

END:VCALENDAR
