BEGIN:VCALENDAR
VERSION:2.0
PRODID:-//ChamberMaster//Event Calendar 2.0//EN
METHOD:PUBLISH
X-PUBLISHED-TTL:P3D
REFRESH-INTERVAL:P3D
CALSCALE:GREGORIAN
BEGIN:VEVENT
DTSTART:20191020T170000Z
DTEND:20191020T203000Z
X-MICROSOFT-CDO-ALLDAYEVENT:FALSE
SUMMARY:Off Main Writers Group
DESCRIPTION:During this Writers' Group meeting participants will have the opportunity to share their insight\, projects\, chat and write.
X-ALT-DESC;FMTTYPE=text/html:During this Writers&#39\; Group meeting participants will have the opportunity to share their insight\, projects\, chat and write.
LOCATION:Mercer County Public Library 109 W. Lexington Street Harrodsburg\, Kentucky 40330
UID:e.1251.26182
SEQUENCE:3
DTSTAMP:20260421T185449Z
URL:https://www.mercerchamber.com/events/details/off-main-writers-group-26182
END:VEVENT

END:VCALENDAR
