BEGIN:VCALENDAR
VERSION:2.0
PRODID:-//ChamberMaster//Event Calendar 2.0//EN
METHOD:PUBLISH
X-PUBLISHED-TTL:P3D
REFRESH-INTERVAL:P3D
CALSCALE:GREGORIAN
BEGIN:VEVENT
DTSTART:20191031T213000Z
DTEND:20191031T230000Z
X-MICROSOFT-CDO-ALLDAYEVENT:FALSE
SUMMARY:Night of the Great Pumpkin
DESCRIPTION:MOVED TO TUESDAY THE 29th!
X-ALT-DESC;FMTTYPE=text/html:MOVED TO TUESDAY THE 29th!
LOCATION:Main Street Harrodsburg
UID:e.1251.27201
SEQUENCE:3
DTSTAMP:20260421T203504Z
URL:https://www.mercerchamber.com/events/details/night-of-the-great-pumpkin-27201
END:VEVENT

END:VCALENDAR
