BEGIN:VCALENDAR
VERSION:2.0
PRODID:-//ChamberMaster//Event Calendar 2.0//EN
METHOD:PUBLISH
X-PUBLISHED-TTL:P3D
REFRESH-INTERVAL:P3D
CALSCALE:GREGORIAN
BEGIN:VEVENT
DTSTART:20190910T230000Z
DTEND:20190911T000000Z
X-MICROSOFT-CDO-ALLDAYEVENT:FALSE
SUMMARY:Mercer Co. Republican Party monthly Meetings
DESCRIPTION:2nd Tuesday of each month
X-ALT-DESC;FMTTYPE=text/html:<span style="caret-color: rgb(0\, 0\, 0)\; color: rgb(0\, 0\, 0)\; font-family: -webkit-standard\; font-size: medium\; text-size-adjust: auto\;">2nd Tuesday of each month&nbsp\;</span>
LOCATION:Mercer EMS Conference Room 130 Commercial Dr
UID:e.1251.20666
SEQUENCE:3
DTSTAMP:20260423T233657Z
URL:https://www.mercerchamber.com/events/details/mercer-co-republican-party-monthly-meetings-09-10-2019-20666
END:VEVENT

END:VCALENDAR
