BEGIN:VCALENDAR
VERSION:2.0
PRODID:-//ChamberMaster//Event Calendar 2.0//EN
METHOD:PUBLISH
X-PUBLISHED-TTL:P3D
REFRESH-INTERVAL:P3D
CALSCALE:GREGORIAN
BEGIN:VEVENT
DTSTART:20191009T130000Z
DTEND:20191009T210000Z
X-MICROSOFT-CDO-ALLDAYEVENT:FALSE
SUMMARY:Mercer Adult Ed Open House
DESCRIPTION:
X-ALT-DESC;FMTTYPE=text/html:
LOCATION:
UID:e.1251.24164
SEQUENCE:3
DTSTAMP:20260421T202814Z
URL:https://www.mercerchamber.com/events/details/mercer-adult-ed-open-house-24164
END:VEVENT

END:VCALENDAR
