BEGIN:VCALENDAR
VERSION:2.0
PRODID:-//ChamberMaster//Event Calendar 2.0//EN
METHOD:PUBLISH
X-PUBLISHED-TTL:P3D
REFRESH-INTERVAL:P3D
CALSCALE:GREGORIAN
BEGIN:VEVENT
DTSTART:20200120T130000Z
DTEND:20200120T150000Z
X-MICROSOFT-CDO-ALLDAYEVENT:FALSE
SUMMARY:Martin Luther King Day
DESCRIPTION:Annual MLK Day.  \nMartin Luther King Jr. Day\n\nJanuary 20th at Harrodsburg Baptist Church \n\n8 AM Breakfast\, 9 AM March 9:30 Program
X-ALT-DESC;FMTTYPE=text/html:Annual MLK Day.&nbsp\;&nbsp\;\n<div _mce_style="margin: 0in 0in 0.0001pt\; font-family: &quot\;Arial Black&quot\;\, &quot\;Avant Garde&quot\;\; font-size: 18pt\; color: #003b3a\;" style="text-align: -webkit-center\; text-size-adjust: auto\; margin: 0in 0in 0.0001pt\; font-family: &quot\;Arial Black&quot\;\, &quot\;Avant Garde&quot\;\; font-size: 18pt\; color: rgb(0\, 59\, 58)\;">Martin Luther King Jr. Day</div>\n\n<div _mce_style="margin: 0in 0in 0.0001pt\; font-family: &quot\;Arial Black&quot\;\, &quot\;Avant Garde&quot\;\; font-size: 18pt\; color: #003b3a\;" style="text-align: -webkit-center\; text-size-adjust: auto\; margin: 0in 0in 0.0001pt\; font-family: &quot\;Arial Black&quot\;\, &quot\;Avant Garde&quot\;\; font-size: 18pt\; color: rgb(0\, 59\, 58)\;">January 20th at Harrodsburg Baptist Church&nbsp\;</div>\n\n<div _mce_style="margin: 0in 0in 0.0001pt\; font-family: &quot\;Arial Black&quot\;\, &quot\;Avant Garde&quot\;\; font-size: 18pt\; color: #003b3a\;" style="text-align: -webkit-center\; text-size-adjust: auto\; margin: 0in 0in 0.0001pt\; font-family: &quot\;Arial Black&quot\;\, &quot\;Avant Garde&quot\;\; font-size: 18pt\; color: rgb(0\, 59\, 58)\;">8 AM Breakfast\, 9 AM March 9:30 Program</div>\n
LOCATION:Harrodsburg Baptist Church Main Street Harrodsburg
UID:e.1251.20909
SEQUENCE:3
DTSTAMP:20260422T034258Z
URL:https://www.mercerchamber.com/events/details/martin-luther-king-day-20909
END:VEVENT

END:VCALENDAR
