BEGIN:VCALENDAR
VERSION:2.0
PRODID:-//ChamberMaster//Event Calendar 2.0//EN
METHOD:PUBLISH
X-PUBLISHED-TTL:P3D
REFRESH-INTERVAL:P3D
CALSCALE:GREGORIAN
BEGIN:VEVENT
DTSTART;VALUE=DATE:20191030
DTEND;VALUE=DATE:20191031
TRANSP:TRANSPARENT
X-MICROSOFT-CDO-ALLDAYEVENT:TRUE
SUMMARY:Lottery Drawing for: Heritage Hunt for Bobwhite Quail
DESCRIPTION:Lottery Drawing for Heritage Hunt for Bobwhite Quail
X-ALT-DESC;FMTTYPE=text/html:Lottery Drawing for Heritage Hunt for Bobwhite Quail
LOCATION:Raffle Tickets can be purchased on the website address: shakervillageky.org/events/quailhunt
UID:e.1251.27215
SEQUENCE:3
DTSTAMP:20260421T202927Z
URL:https://www.mercerchamber.com/events/details/lottery-drawing-for-heritage-hunt-for-bobwhite-quail-27215
END:VEVENT

END:VCALENDAR
