BEGIN:VCALENDAR
VERSION:2.0
PRODID:-//ChamberMaster//Event Calendar 2.0//EN
METHOD:PUBLISH
X-PUBLISHED-TTL:P3D
REFRESH-INTERVAL:P3D
CALSCALE:GREGORIAN
BEGIN:VEVENT
DTSTART;VALUE=DATE:20260413
DTEND;VALUE=DATE:20260414
TRANSP:TRANSPARENT
X-MICROSOFT-CDO-ALLDAYEVENT:TRUE
SUMMARY:Limited-time offers at Ashwood Place Senior Living
DESCRIPTION:We have some exciting limited-time offers at Ashwood Place Senior Living that you won't want to miss click below to watch the video and learn more!\n\n$1\,000 off of their monthly rent for the life of their lease. We are offering this discount for a limited time only. If you refer someone and they move in for at least a month you may qualify for our $2\,000 thanks as well.
X-ALT-DESC;FMTTYPE=text/html:<span style="caret-color: rgb(85\, 85\, 85)\; color: rgb(85\, 85\, 85)\; font-family: sans-serif\; font-size: 14px\;">We have some exciting limited-time offers at Ashwood Place Senior Living that you won&#39\;t want to miss&mdash\;click below to watch the video and learn more!</span><br style="caret-color: rgb(85\, 85\, 85)\; color: rgb(85\, 85\, 85)\; font-family: sans-serif\; font-size: 14px\;" />\n<span style="caret-color: rgb(0\, 0\, 0)\; color: rgb(0\, 0\, 0)\; font-family: Aptos\; font-size: medium\;">$1\,000 off of their monthly rent for the life of their lease. We are offering this discount for a limited time only. If you refer someone and they move in for at least a month you may qualify for our $2\,000 thanks as well.&nbsp\;</span>
LOCATION:
UID:e.1251.48944
SEQUENCE:3
DTSTAMP:20260419T125147Z
URL:https://www.mercerchamber.com/events/details/limited-time-offers-at-ashwood-place-senior-living-48944
END:VEVENT

END:VCALENDAR
