BEGIN:VCALENDAR
VERSION:2.0
PRODID:-//ChamberMaster//Event Calendar 2.0//EN
METHOD:PUBLISH
X-PUBLISHED-TTL:P3D
REFRESH-INTERVAL:P3D
CALSCALE:GREGORIAN
BEGIN:VEVENT
DTSTART;VALUE=DATE:20191004
DTEND;VALUE=DATE:20191006
TRANSP:TRANSPARENT
X-MICROSOFT-CDO-ALLDAYEVENT:TRUE
SUMMARY:Kentucky's Fort Harrod Beef Festival 2019
DESCRIPTION:Annual eating festival and BBQ contest!
X-ALT-DESC;FMTTYPE=text/html:Annual eating festival and BBQ contest!
LOCATION:Mercer Co. Fairgrounds
UID:e.1251.20882
SEQUENCE:3
DTSTAMP:20260421T203844Z
URL:https://www.mercerchamber.com/events/details/kentucky-s-fort-harrod-beef-festival-20882
END:VEVENT

END:VCALENDAR
