BEGIN:VCALENDAR
VERSION:2.0
PRODID:-//ChamberMaster//Event Calendar 2.0//EN
METHOD:PUBLISH
X-PUBLISHED-TTL:P3D
REFRESH-INTERVAL:P3D
CALSCALE:GREGORIAN
BEGIN:VEVENT
DTSTART:20180227T143000Z
DTEND:20180227T200000Z
X-MICROSOFT-CDO-ALLDAYEVENT:FALSE
SUMMARY:Homebased Microprocessor Workshop
DESCRIPTION:Workshop about Homebased Microprocessors where you may sell lower-risk products such as fruit jams\, jellies\, butters\, syrups\, etc.. To register for the workshop call Annhall Norris at 859-257-1812 or visist http://fcs-hes.ca.uky.edu/homebased_processing_microprocessing/
X-ALT-DESC;FMTTYPE=text/html:Workshop about Homebased Microprocessors where you may sell lower-risk products such as fruit jams\, jellies\, butters\, syrups\, etc.. To register for the workshop call Annhall Norris at 859-257-1812 or visist <a href="http://fcs-hes.ca.uky.edu/homebased_processing_microprocessing/">http://fcs-hes.ca.uky.edu/homebased_processing_microprocessing/</a>
LOCATION:Mercer County Extension Office Harrodsburg\, KY
UID:e.1251.16336
SEQUENCE:3
DTSTAMP:20260422T235756Z
URL:https://www.mercerchamber.com/events/details/homebased-microprocessor-workshop-16336
END:VEVENT

END:VCALENDAR
