BEGIN:VCALENDAR
VERSION:2.0
PRODID:-//ChamberMaster//Event Calendar 2.0//EN
METHOD:PUBLISH
X-PUBLISHED-TTL:P3D
REFRESH-INTERVAL:P3D
CALSCALE:GREGORIAN
BEGIN:VEVENT
DTSTART;VALUE=DATE:20110815
DTEND;VALUE=DATE:20110816
TRANSP:TRANSPARENT
X-MICROSOFT-CDO-ALLDAYEVENT:TRUE
SUMMARY:HMCIDA
DESCRIPTION:Economic Development Cabinet
X-ALT-DESC;FMTTYPE=text/html:Economic Development Cabinet
LOCATION:Diamond Point meeting room
UID:e.1251.7
SEQUENCE:3
DTSTAMP:20260421T025432Z
URL:https://www.mercerchamber.com/events/details/hmcida-08-15-2011-7
END:VEVENT

END:VCALENDAR
