BEGIN:VCALENDAR
VERSION:2.0
PRODID:-//ChamberMaster//Event Calendar 2.0//EN
METHOD:PUBLISH
X-PUBLISHED-TTL:P3D
REFRESH-INTERVAL:P3D
CALSCALE:GREGORIAN
BEGIN:VEVENT
DTSTART:20170920T160000Z
DTEND:20170921T030000Z
X-MICROSOFT-CDO-ALLDAYEVENT:FALSE
SUMMARY:HLCL Golf Outing
DESCRIPTION:This is our best fundraiser and we are looking for businesses and people to help support us again this year. We need hole sponsors and players\, so please consider helping us out again this year.
X-ALT-DESC;FMTTYPE=text/html:<span style="color: rgb(29\, 33\, 41)\; font-family: Helvetica\, Arial\, sans-serif\; font-size: 14px\;">This is our best fundraiser and we are looking for businesses and people to help support us again this year. We need hole sponsors and players\, so please consider helping us out again this year.</span>
LOCATION:clock pin Peninsula Golf Resort 136 Clubhouse Dr\, Lancaster\, Kentucky 40444
UID:e.1251.15334
SEQUENCE:3
DTSTAMP:20260425T104417Z
URL:https://www.mercerchamber.com/events/details/hlcl-golf-outing-15334
END:VEVENT

END:VCALENDAR
