BEGIN:VCALENDAR
VERSION:2.0
PRODID:-//ChamberMaster//Event Calendar 2.0//EN
METHOD:PUBLISH
X-PUBLISHED-TTL:P3D
REFRESH-INTERVAL:P3D
CALSCALE:GREGORIAN
BEGIN:VEVENT
DTSTART;VALUE=DATE:20190614
DTEND;VALUE=DATE:20190615
TRANSP:TRANSPARENT
X-MICROSOFT-CDO-ALLDAYEVENT:TRUE
SUMMARY:Grease the movie
DESCRIPTION:GREASE will be playing June 14 at dusk \n\n We will have 50s theme and be offering Floats! \n\n  It will be shown at the Fort Harrod Amphitheater \n\n Popcorn and Drink concessions \n\n  This is a family-friendly event \n\n Chairs will be available but blankets and lawn chairs are welcome\n\n This event is being sponsored by J Elliott Heating and Air Conditioning and Dairy Queen of Harrodsburg \n\n  While this is a free event\, donations will be accepted to benefit capital improvements for Fort Harrod - ALL donated funds go toward structure repairs and maintenance of Old Fort Harrod State Park\, "the most historically important site in Kentucky"\n\n* The 250th Anniversary of the birth of our town makes this project of supreme importance in the next few years*\n\n  Please Share  \n\nMercer County Chamber of Commerce\n\nDavid Coleman\n\nOld Fort Harrod State Park
X-ALT-DESC;FMTTYPE=text/html:&#127903\;&#127903\;&#127903\;&#127903\;&#127903\;&#127903\;&#127903\;&#127903\;&#127903\;&#127903\;&#127903\;&#127903\;&#127903\;&#127903\;&#127903\;<br />\n&#127916\;GREASE will be playing June 14 at dusk&nbsp\;<br />\n&#127871\;We will have 50s theme and be offering Floats!&nbsp\;<br />\n&#127916\; It will be shown at the Fort Harrod Amphitheater&nbsp\;<br />\n&#127871\;Popcorn and Drink concessions&nbsp\;<br />\n&#127916\; This is a family-friendly event&nbsp\;<br />\n&#127871\;Chairs will be available but blankets and lawn chairs are welcome<br />\n&#127903\;This event is being sponsored by J Elliott Heating and Air Conditioning and Dairy Queen of Harrodsburg&nbsp\;<br />\n&#127903\; While this is a free event\, donations will be accepted to benefit capital improvements for Fort Harrod - ALL donated funds go toward structure repairs and maintenance of Old Fort Harrod State Park\, &ldquo\;the most historically important site in Kentucky&rdquo\;<br />\n* The 250th Anniversary of the birth of our town makes this project of supreme importance in the next few years*<br />\n&#8252\;&#65039\;Please Share&#8252\;&#65039\;<br />\nMercer County Chamber of Commerce<br />\nDavid Coleman<br />\nOld Fort Harrod State Park
LOCATION:Fort Harrod Amphitheater
UID:e.1251.23947
SEQUENCE:3
DTSTAMP:20260422T210545Z
URL:https://www.mercerchamber.com/events/details/grease-the-movie-23947
END:VEVENT

END:VCALENDAR
