BEGIN:VCALENDAR
VERSION:2.0
PRODID:-//ChamberMaster//Event Calendar 2.0//EN
METHOD:PUBLISH
X-PUBLISHED-TTL:P3D
REFRESH-INTERVAL:P3D
CALSCALE:GREGORIAN
BEGIN:VEVENT
DTSTART:20181110T230000Z
DTEND:20181111T030000Z
X-MICROSOFT-CDO-ALLDAYEVENT:FALSE
SUMMARY:Fundraiser Concert & BBQ
DESCRIPTION:To benefit The House of Grace\, Hope and Mercy\, a proposed homeless facility for Mercer County.  Featuring Artist\, MAD Women\, Chris Linton Band\, Tyler Evans\, Jarrod Stratton and DJ Hooty Hoo Country\, Rock and Blues
X-ALT-DESC;FMTTYPE=text/html:To benefit The House of Grace\, Hope and Mercy\, a proposed homeless facility for Mercer County.&nbsp\; Featuring Artist\, MAD Women\, Chris Linton Band\, Tyler Evans\, Jarrod Stratton and DJ Hooty Hoo Country\, Rock and Blues
LOCATION:Mercer County Senior High Auditorium
UID:e.1251.20087
SEQUENCE:3
DTSTAMP:20260426T041800Z
URL:https://www.mercerchamber.com/events/details/fundraiser-concert-bbq-20087
END:VEVENT

END:VCALENDAR
