BEGIN:VCALENDAR
VERSION:2.0
PRODID:-//ChamberMaster//Event Calendar 2.0//EN
METHOD:PUBLISH
X-PUBLISHED-TTL:P3D
REFRESH-INTERVAL:P3D
CALSCALE:GREGORIAN
BEGIN:VEVENT
DTSTART:20191025T230000Z
DTEND:20191026T010000Z
X-MICROSOFT-CDO-ALLDAYEVENT:FALSE
SUMMARY:Friday Family Flicks
DESCRIPTION:FREE & Open to the Public.  Disney's The Lion King is rated PG and 118 minutes in length.  Children under the age of 12 will need to be accompanied by an adult.
X-ALT-DESC;FMTTYPE=text/html:<strong>FREE</strong>&nbsp\;&amp\; Open to the Public.&nbsp\; Disney&#39\;s&nbsp\;<em>The Lion King</em>&nbsp\;is rated PG and 118 minutes in length.&nbsp\; Children under the age of 12 will need to be accompanied by an adult.
LOCATION:Mercer County Public Library Meeting Room
UID:e.1251.24175
SEQUENCE:3
DTSTAMP:20260421T203404Z
URL:https://www.mercerchamber.com/events/details/friday-family-flicks-24175
END:VEVENT

END:VCALENDAR
