BEGIN:VCALENDAR
VERSION:2.0
PRODID:-//ChamberMaster//Event Calendar 2.0//EN
METHOD:PUBLISH
X-PUBLISHED-TTL:P3D
REFRESH-INTERVAL:P3D
CALSCALE:GREGORIAN
BEGIN:VEVENT
DTSTART:20260422T120000Z
DTEND:20260422T203000Z
X-MICROSOFT-CDO-ALLDAYEVENT:FALSE
SUMMARY:Free Tire Drop Off by Fiscal Court for Earth Day
DESCRIPTION:Mercer Co. Fiscal Court is participating in Earth Day Clean Ups by opening up the Convenience Center at Moberly Road for Earth Day Wednesday April 22nd for free tire drop off !  This is normally $5 each tire. Tires must be road grade tires-(which excludes large machinery and tractor tires).  Hours are 8AM-4:30 PM
X-ALT-DESC;FMTTYPE=text/html:<p class="xmsonormal" style="margin: 0in\; font-size: 12pt\; font-family: Calibri\, sans-serif\; color: rgb(0\, 0\, 0)\;"><span style="font-size: 14pt\;">Mercer Co. Fiscal Court is participating in Earth Day Clean Ups by opening up the Convenience Center at Moberly Road for Earth Day Wednesday April 22<sup>nd</sup> for free tire drop off !&nbsp\; This is normally $5 each tire. Tires must be road grade tires-(which excludes large machinery and tractor tires).&nbsp\; Hours are 8AM-4:30 PM<o:p></o:p></span></p>\n
LOCATION:
UID:e.1251.48607
SEQUENCE:3
DTSTAMP:20260422T010412Z
URL:https://www.mercerchamber.com/events/details/free-tire-drop-off-by-fiscal-court-for-earth-day-48607
END:VEVENT

END:VCALENDAR
