BEGIN:VCALENDAR
VERSION:2.0
PRODID:-//ChamberMaster//Event Calendar 2.0//EN
METHOD:PUBLISH
X-PUBLISHED-TTL:P3D
REFRESH-INTERVAL:P3D
CALSCALE:GREGORIAN
BEGIN:VEVENT
DTSTART:20171004T130000Z
DTEND:20171004T160000Z
X-MICROSOFT-CDO-ALLDAYEVENT:FALSE
SUMMARY:FREE STROKE RISK ASSESSMENT
DESCRIPTION:Free Stroke Risk Assessment for anyone 18 an over...Sponsored
X-ALT-DESC;FMTTYPE=text/html:Free Stroke Risk Assessment for anyone 18 an over...Sponsored
LOCATION:Mercer County Health Department Morris Drive Harrodsburg KY
UID:e.1251.15473
SEQUENCE:3
DTSTAMP:20260424T225302Z
URL:https://www.mercerchamber.com/events/details/free-stroke-risk-assessment-15473
END:VEVENT

END:VCALENDAR
