BEGIN:VCALENDAR
VERSION:2.0
PRODID:-//ChamberMaster//Event Calendar 2.0//EN
METHOD:PUBLISH
X-PUBLISHED-TTL:P3D
REFRESH-INTERVAL:P3D
CALSCALE:GREGORIAN
BEGIN:VEVENT
DTSTART:20260425T120000Z
DTEND:20260425T160000Z
X-MICROSOFT-CDO-ALLDAYEVENT:FALSE
SUMMARY:Field to Fork Swap
DESCRIPTION:Field to Fork Swap at Norby's every other weekend April through October
X-ALT-DESC;FMTTYPE=text/html:Field to Fork Swap at Norby&#39\;s every other weekend April through October
LOCATION:
UID:e.1251.48466
SEQUENCE:3
DTSTAMP:20260424T081045Z
URL:https://www.mercerchamber.com/events/details/field-to-fork-swap-48466
END:VEVENT

END:VCALENDAR
