BEGIN:VCALENDAR
VERSION:2.0
PRODID:-//ChamberMaster//Event Calendar 2.0//EN
METHOD:PUBLISH
X-PUBLISHED-TTL:P3D
REFRESH-INTERVAL:P3D
CALSCALE:GREGORIAN
BEGIN:VEVENT
DTSTART;VALUE=DATE:20171016
DTEND;VALUE=DATE:20171021
TRANSP:TRANSPARENT
X-MICROSOFT-CDO-ALLDAYEVENT:TRUE
SUMMARY:Fall Cleanup Week
DESCRIPTION:Fall cleanup week with M&M Sanitation\n\nPlace items at the curb on your regular trash pick up day.
X-ALT-DESC;FMTTYPE=text/html:Fall cleanup week with M&amp\;M Sanitation<br />\nPlace items at the curb on your regular trash pick up day.
LOCATION:All over for trash customers
UID:e.1251.15452
SEQUENCE:3
DTSTAMP:20260425T215937Z
URL:https://www.mercerchamber.com/events/details/fall-cleanup-week-15452
END:VEVENT

END:VCALENDAR
