BEGIN:VCALENDAR
VERSION:2.0
PRODID:-//ChamberMaster//Event Calendar 2.0//EN
METHOD:PUBLISH
X-PUBLISHED-TTL:P3D
REFRESH-INTERVAL:P3D
CALSCALE:GREGORIAN
BEGIN:VEVENT
DTSTART:20171129T220000Z
DTEND:20171129T230000Z
X-MICROSOFT-CDO-ALLDAYEVENT:FALSE
SUMMARY:Extension Wednesday
DESCRIPTION:Holiday Plant Care...learn hw to take care of Thanksgiving cactus\,and Pionesettias so you can enjoy them for years to come.  REGISTER by contacting the Public Library
X-ALT-DESC;FMTTYPE=text/html:Holiday Plant Care...learn hw to take care of Thanksgiving cactus\,and Pionesettias so you can enjoy them for years to come.&nbsp\; REGISTER by contacting the Public Library
LOCATION:Mercer County Public Library Meeting Room
UID:e.1251.16200
SEQUENCE:3
DTSTAMP:20260425T220116Z
URL:https://www.mercerchamber.com/events/details/extension-wednesday-16200
END:VEVENT

END:VCALENDAR
