BEGIN:VCALENDAR
VERSION:2.0
PRODID:-//ChamberMaster//Event Calendar 2.0//EN
METHOD:PUBLISH
X-PUBLISHED-TTL:P3D
REFRESH-INTERVAL:P3D
CALSCALE:GREGORIAN
BEGIN:VEVENT
DTSTART:20170710T140000Z
DTEND:20170710T153000Z
X-MICROSOFT-CDO-ALLDAYEVENT:FALSE
SUMMARY:Environmental Education Program
DESCRIPTION:Want to learn how to "Build a Better World" by taking care of the environment?  Visit the Mobile Enviromental Education Center.
X-ALT-DESC;FMTTYPE=text/html:Want to learn how to &quot\;Build a Better World&quot\; by taking care of the environment?&nbsp\; Visit the Mobile Enviromental Education Center.
LOCATION:Mercer County Public Library
UID:e.1251.14700
SEQUENCE:3
DTSTAMP:20260426T030411Z
URL:https://www.mercerchamber.com/events/details/environmental-education-program-14700
END:VEVENT

END:VCALENDAR
