BEGIN:VCALENDAR
VERSION:2.0
PRODID:-//ChamberMaster//Event Calendar 2.0//EN
METHOD:PUBLISH
X-PUBLISHED-TTL:P3D
REFRESH-INTERVAL:P3D
CALSCALE:GREGORIAN
BEGIN:VEVENT
DTSTART;VALUE=DATE:20260425
DTEND;VALUE=DATE:20260426
TRANSP:TRANSPARENT
X-MICROSOFT-CDO-ALLDAYEVENT:TRUE
SUMMARY:Drug Take Back Day
DESCRIPTION:THE NEXT MERCER COUNTY DRUG TAKE BACK DAY WILL BE HELD ON SATURDAY\, APRIL 25\, 2026 FROM 8:00 A.M. TO NOON AT THE MERCER COUNTY FISCAL COURT BUILDING\, 207 W. LEXINGTON STREET.\n\n\n\nDRUG TAKE BACK DAYS PROVIDE A SAFE\, CONVENIENT AND RESPONSIBLE MEANS FOR DISPOSING OF PRESCRIPTION AND NON-PRESCRIPTION DRUGS WHILE ALSO EDUCATING THE GENERAL PUBLIC ABOUT THE POTENTIAL FOR ABUSE OF MEDICATIONS.
X-ALT-DESC;FMTTYPE=text/html:<div class="xdj266r x14z9mp xat24cr x1lziwak x1vvkbs x126k92a" style="white-space: pre-wrap\; margin-inline: 0px\; overflow-wrap: break-word\; margin-bottom: 0px\; margin-top: 0px\; font-family: system-ui\, -apple-system\, &quot\;system-ui&quot\;\, &quot\;.SFNSText-Regular&quot\;\, sans-serif\; color: rgb(8\, 8\, 9)\; font-size: 14px\;">\n<div dir="auto" style="font-family: inherit\;">THE NEXT MERCER COUNTY DRUG TAKE BACK DAY WILL BE HELD ON SATURDAY\, APRIL 25\, 2026 FROM 8:00 A.M. TO NOON AT THE MERCER COUNTY FISCAL COURT BUILDING\, 207 W. LEXINGTON STREET.</div>\n</div>\n\n<div class="x14z9mp xat24cr x1lziwak x1vvkbs xtlvy1s x126k92a" style="white-space: pre-wrap\; margin-inline: 0px\; overflow-wrap: break-word\; margin-bottom: 0px\; margin-top: 0.5em\; font-family: system-ui\, -apple-system\, &quot\;system-ui&quot\;\, &quot\;.SFNSText-Regular&quot\;\, sans-serif\; color: rgb(8\, 8\, 9)\; font-size: 14px\;">\n<div dir="auto" style="font-family: inherit\;">DRUG TAKE BACK DAYS PROVIDE A SAFE\, CONVENIENT AND RESPONSIBLE MEANS FOR DISPOSING OF PRESCRIPTION AND NON-PRESCRIPTION DRUGS WHILE ALSO EDUCATING THE GENERAL PUBLIC ABOUT THE POTENTIAL FOR ABUSE OF MEDICATIONS.</div>\n</div>\n
LOCATION:
UID:e.1251.48958
SEQUENCE:3
DTSTAMP:20260423T081216Z
URL:https://www.mercerchamber.com/events/details/drug-take-back-day-48958
END:VEVENT

END:VCALENDAR
