BEGIN:VCALENDAR
VERSION:2.0
PRODID:-//ChamberMaster//Event Calendar 2.0//EN
METHOD:PUBLISH
X-PUBLISHED-TTL:P3D
REFRESH-INTERVAL:P3D
CALSCALE:GREGORIAN
BEGIN:VEVENT
DTSTART:20171006T160000Z
DTEND:20171008T160000Z
X-MICROSOFT-CDO-ALLDAYEVENT:FALSE
SUMMARY:Dracula weekend 2
DESCRIPTION:The Ragged Edge Theatre presents Dracula
X-ALT-DESC;FMTTYPE=text/html:The Ragged Edge&nbsp\;Theatre&nbsp\;presents Dracula
LOCATION:Ragged Edge on Main Street
UID:e.1251.15432
SEQUENCE:3
DTSTAMP:20260425T231545Z
URL:https://www.mercerchamber.com/events/details/dracula-weekend-2-15432
END:VEVENT

END:VCALENDAR
