BEGIN:VCALENDAR
VERSION:2.0
PRODID:-//ChamberMaster//Event Calendar 2.0//EN
METHOD:PUBLISH
X-PUBLISHED-TTL:P3D
REFRESH-INTERVAL:P3D
CALSCALE:GREGORIAN
BEGIN:VEVENT
DTSTART:20170929T160000Z
DTEND:20171001T160000Z
X-MICROSOFT-CDO-ALLDAYEVENT:FALSE
SUMMARY:Dracula
DESCRIPTION:The Ragged Edge Theatre presents Dracula
X-ALT-DESC;FMTTYPE=text/html:The Ragged Edge Theatre presents Dracula
LOCATION:Ragged Edge on Main
UID:e.1251.15431
SEQUENCE:3
DTSTAMP:20260425T031620Z
URL:https://www.mercerchamber.com/events/details/dracula-15431
END:VEVENT

END:VCALENDAR
