BEGIN:VCALENDAR
VERSION:2.0
PRODID:-//ChamberMaster//Event Calendar 2.0//EN
METHOD:PUBLISH
X-PUBLISHED-TTL:P3D
REFRESH-INTERVAL:P3D
CALSCALE:GREGORIAN
BEGIN:VEVENT
DTSTART:20170921T123000Z
DTEND:20170921T140000Z
X-MICROSOFT-CDO-ALLDAYEVENT:FALSE
SUMMARY:Disaster Preparedness workshop
DESCRIPTION:Disaster Preparedness Workshop\n\nThe Mercer Chamber of Commerce is hosting a regional Disaster Preparedness workshop with the SBA on September 21\, from 8:30-10 a.m. at the Boyle County Public Library.  This is a joint project with Chambers in Garrard\, Lincoln and Boyle\, as well as the Heart of Danville\, are co-hosting the workshop.Breakfast sponsored by ServPro!
X-ALT-DESC;FMTTYPE=text/html:<strong><span style="color:black\;"><span style="font-family:arial narrow\,sans-serif\;"><span style="font-size:14.0pt\;">Disaster Preparedness Workshop</span></span></span></strong><br />\n<span style="color:black\;"><span style="font-family:arial narrow\,sans-serif\;">The Mercer Chamber of Commerce is hosting a <strong><span style="font-weight:normal\;">regional Disaster Preparedness workshop with the SBA</span></strong>&nbsp\;on September 21\, from 8:30-10 a.m. at the Boyle County Public Library.&nbsp\; This is a joint project with Chambers in Garrard\, Lincoln and Boyle\, as well as the Heart of Danville\, are co-hosting the workshop.Breakfast sponsored by ServPro!</span></span><br />\n&nbsp\;
LOCATION:September 21\, from 8:30-10 a.m. at the Boyle County Public Library. 307 W Broadway St\, Danville\, KY 40422
UID:e.1251.15330
SEQUENCE:3
DTSTAMP:20260426T014300Z
URL:https://www.mercerchamber.com/events/details/disaster-preparedness-workshop-15330
END:VEVENT

END:VCALENDAR
