BEGIN:VCALENDAR
VERSION:2.0
PRODID:-//ChamberMaster//Event Calendar 2.0//EN
METHOD:PUBLISH
X-PUBLISHED-TTL:P3D
REFRESH-INTERVAL:P3D
CALSCALE:GREGORIAN
BEGIN:VEVENT
DTSTART:20170923T160000Z
DTEND:20170923T160000Z
X-MICROSOFT-CDO-ALLDAYEVENT:FALSE
SUMMARY:Devine's Corn Maze
DESCRIPTION:Devine's Farm & Devine's Corn Maze & Pumpkin Patch\n\n 2017 Dates & Hours\n\nDATES:\n\nSeptember 15th through October 28th. \n\nWe are open to the public every weekend!
X-ALT-DESC;FMTTYPE=text/html:<h2 class="font_2" style="margin: 0px\; padding: 0px\; border: 0px\; outline: 0px\; vertical-align: baseline\; background: transparent\; font-stretch: normal\; font-size: 45px\; line-height: normal\; font-family: nimbus-sans-tw01con\, sans-serif\; color: rgb(52\, 33\, 9)\;"><span style="font-size:16px\;">Devine's Farm &amp\; Devine's Corn Maze &amp\; Pumpkin </span><span style="font-size:16px\;">Patch<br>\n&#8203\;</span><span style="font-size:14px\;"><span class="color_3" style="margin: 0px\; padding: 0px\; border: 0px\; outline: 0px\; vertical-align: baseline\; background: transparent\; color: rgb(237\, 28\, 36)\;"><span style="margin: 0px\; padding: 0px\; border: 0px\; outline: 0px\; vertical-align: baseline\; background: transparent\; text-shadow: rgb(255\, 255\, 255) -1px -1px 0px\, rgb(255\, 255\, 255) -1px 1px 0px\, rgb(255\, 255\, 255) 1px 1px 0px\, rgb(255\, 255\, 255) 1px -1px 0px\;">2017</span></span></span><span style="font-size:14px\;">&nbsp\;Dates &amp\; Hours</span></h2>\n\n<p class="font_8" style="margin: 0px\; padding: 0px\; border: 0px\; outline: 0px\; vertical-align: baseline\; background: transparent\; font-stretch: normal\; font-size: 14px\; line-height: normal\; font-family: helvetica-w01-roman\, helvetica-w02-roman\, helvetica-lt-w10-roman\, sans-serif\; color: rgb(52\, 33\, 9)\;"><span style="font-size:14px\;">DATES:</span></p>\n\n<h5 class="font_5" style="margin: 0px\; padding: 0px\; border: 0px\; outline: 0px\; vertical-align: baseline\; background: transparent\; font-stretch: normal\; font-size: 16px\; line-height: normal\; font-family: tahoma\, tahoma-w01-regular\, tahoma-w02-regular\, tahoma-w10-regular\, tahoma-w15--regular\, tahoma-w99-regular\, sans-serif\; color: rgb(52\, 33\, 9)\;"><span style="font-size:14px\;"><span style="margin: 0px\; padding: 0px\; border: 0px\; outline: 0px\; vertical-align: baseline\; background: transparent\; color: rgb(242\, 2\, 2)\;"><span style="margin: 0px\; padding: 0px\; border: 0px\; outline: 0px\; vertical-align: baseline\; background: transparent\;"><span style="margin: 0px\; padding: 0px\; border: 0px\; outline: 0px\; vertical-align: baseline\; background: transparent\; font-weight: bold\;">September 15th through October 28th.&nbsp\;</span></span></span></span></h5>\n\n<p class="font_8" style="margin: 0px\; padding: 0px\; border: 0px\; outline: 0px\; vertical-align: baseline\; background: transparent\; font-stretch: normal\; font-size: 14px\; line-height: normal\; font-family: helvetica-w01-roman\, helvetica-w02-roman\, helvetica-lt-w10-roman\, sans-serif\; color: rgb(52\, 33\, 9)\;"><span style="font-size:14px\;"><span style="margin: 0px\; padding: 0px\; border: 0px\; outline: 0px\; vertical-align: baseline\; background: transparent\;">We are open to the public every weekend!&nbsp\;</span></span></p>\n
LOCATION:623 Talmage-Mayo Road Harrodsburg\, KY 40330
UID:e.1251.15401
SEQUENCE:3
DTSTAMP:20260425T104545Z
URL:https://www.mercerchamber.com/events/details/devine-s-corn-maze-09-23-2017-15401
END:VEVENT

END:VCALENDAR
