BEGIN:VCALENDAR
VERSION:2.0
PRODID:-//ChamberMaster//Event Calendar 2.0//EN
METHOD:PUBLISH
X-PUBLISHED-TTL:P3D
REFRESH-INTERVAL:P3D
CALSCALE:GREGORIAN
BEGIN:VEVENT
DTSTART:20170928T123000Z
DTEND:20170928T210000Z
X-MICROSOFT-CDO-ALLDAYEVENT:FALSE
SUMMARY:Customer Service Training
DESCRIPTION:CEO's of fast-growing companies say that good customer service gives the best return on the dollar\, compared to any other growth strategy....a workshop designed for the very purpose.\,\,\,Customer Service guru\, Bill Drury\, wi be presenting tow sessions of A Passion for Service.  This workshop will help your business go to the next level of service excelence
X-ALT-DESC;FMTTYPE=text/html:CEO&#39\;s of fast-growing companies say that good customer service gives the best return on the dollar\, compared to any other growth strategy....a workshop designed for the very purpose.\,\,\,Customer Service guru\, Bill Drury\, wi be presenting tow sessions of <em><strong>A Passion for Service.</strong></em>&nbsp\; This workshop will help your business go to the next level of service excelence
LOCATION:Capital Plaza Hotel 405 Wilkinson Blvd Frankfort\, KY
UID:e.1251.15463
SEQUENCE:3
DTSTAMP:20260425T104708Z
URL:https://www.mercerchamber.com/events/details/customer-service-training-15463
END:VEVENT

END:VCALENDAR
