BEGIN:VCALENDAR
VERSION:2.0
PRODID:-//ChamberMaster//Event Calendar 2.0//EN
METHOD:PUBLISH
X-PUBLISHED-TTL:P3D
REFRESH-INTERVAL:P3D
CALSCALE:GREGORIAN
BEGIN:VEVENT
DTSTART:20191005T220000Z
DTEND:20191006T010000Z
X-MICROSOFT-CDO-ALLDAYEVENT:FALSE
SUMMARY:Cruz on Chiles presented by Auto Kustoms
DESCRIPTION:Monthly custom or classic car and truck cruise on the first Saturday of each month from April to October with DJ Iceman\, great music\, food trucks\, prize raffles and 50/50 cash raffle. Free to attend! Bring the whole family out and join us for a few hours of family fun.
X-ALT-DESC;FMTTYPE=text/html:<span style="caret-color: rgb(29\, 33\, 41)\; color: rgb(29\, 33\, 41)\; font-family: system-ui\, -apple-system\, BlinkMacSystemFont\, &quot\;.SFNSText-Regular&quot\;\, sans-serif\; font-size: 14px\; text-size-adjust: auto\;">Monthly custom or classic car and truck cruise on the first Saturday of each month from April to October with DJ Iceman\, great music\, food trucks\, prize raffles and 50/50 cash raffle. Free to attend! Bring the whole family out and join us for a few hours of family fun.</span>
LOCATION:pin Auto Kustoms 123 S Chiles St\, Harrodsburg\, Kentucky 40330
UID:e.1251.20120
SEQUENCE:3
DTSTAMP:20260421T202707Z
URL:https://www.mercerchamber.com/events/details/cruze-on-chiles-presented-by-auto-kustoms-10-05-2019-20120
END:VEVENT

END:VCALENDAR
